BEGIN:VCALENDAR
VERSION:2.0
PRODID:-//ChamberMaster//Event Calendar 2.0//EN
METHOD:PUBLISH
X-PUBLISHED-TTL:P3D
REFRESH-INTERVAL:P3D
CALSCALE:GREGORIAN
BEGIN:VEVENT
DTSTART;VALUE=DATE:20230812
DTEND;VALUE=DATE:20230813
TRANSP:TRANSPARENT
X-MICROSOFT-CDO-ALLDAYEVENT:TRUE
SUMMARY:An American in Paris
DESCRIPTION:AN AMERICAN IN PARIS\n\nDates: July 26  - August 12\n\n\n\nStyle: Musical\n\nRun Time: 2 Hours and 30 Minutes\n\nAges: 8 and up\n\n(There is no official rating system for live theatre. We invite you to use your own judgment.)\n\n \n\nMusic and Lyrics by George and Ira Gershwin\n\nBook by Craig Lucas\n\nShow Summary\n\nA captivating musical full of classic Gershwin tunes that will certainly keep you feeling ?S Wonderful all night long!\n\nSet in the French capital in the wake of World War II\, An American in Paris tells the romantic story of a young American soldier\, a beautiful French girl\, and an indomitable European city ? each yearning for a new beginning in the aftermath of international conflict.\n\nInspired by the Academy-Award winning 1951 film\, the new stage musical features a ravishing score by George and Ira Gershwin and a fresh\, sophisticated book by Tony nominee and Pulitzer Prize finalist Craig Lucas.The show?s timeless musical numbers include ?I Got Rhythm\,? ??S Wonderful\,? ?But Not For Me\,? ?The Man I Love\,? ?Shall We Dance?? and ?(I?ll Build A) Stairway To Paradise?.\n\nOriginally produced on Broadway by\n\nStuart Oken\, Van Kaplan\, Roy Furman\n\nBy special arrangement with\n\nElephant Eye Theatrical & Pittsburgh CLO and Th  tre du Ch telet\n\nAn American in Paris is presented by arrangement with Concord Theatricals on behalf of Tams-Witmark LLC. \n\nwww.concordtheatricals.com
X-ALT-DESC;FMTTYPE=text/html:<h2>AN AMERICAN IN PARIS</h2>\n\n<p><span style="font-size:16px">Dates: July 26&nbsp\; - August 12<br />\n<br />\nStyle:&nbsp\;Musical<br />\nRun Time:&nbsp\;2 Hours and 30 Minutes<br />\nAges:&nbsp\;8 and up</span><br />\n<em><span style="color:rgb(102\, 102\, 102)\; font-size:11px">(There is no official rating system for live theatre. We invite you to use your own judgment.)</span></em><br />\n&nbsp\;</p>\n\n<p><em>Music and Lyrics by George and Ira Gershwin<br />\nBook by Craig Lucas</em></p>\n\n<h3>Show Summary</h3>\n\n<p>A captivating musical full of classic Gershwin tunes that will certainly keep you feeling&nbsp\;<em>?S Wonderful</em>&nbsp\;all night long!</p>\n\n<p>Set in the French capital in the wake of World War II\,&nbsp\;<em>An American in Paris</em>&nbsp\;tells the romantic story of a young American soldier\, a beautiful French girl\, and an indomitable European city ? each yearning for a new beginning in the aftermath of international conflict.</p>\n\n<p>Inspired by the Academy-Award winning 1951 film\, the new stage musical features a ravishing score by George and Ira Gershwin and a fresh\, sophisticated book by Tony nominee and Pulitzer Prize finalist Craig Lucas.The show?s timeless musical numbers include ?I Got Rhythm\,? ??S Wonderful\,? ?But Not For Me\,? ?The Man I Love\,? ?Shall We Dance?? and ?(I?ll Build A) Stairway To Paradise?.</p>\n\n<p><em>Originally produced on Broadway by<br />\nStuart Oken\, Van Kaplan\, Roy Furman<br />\nBy special arrangement with<br />\nElephant Eye Theatrical &amp\; Pittsburgh CLO and Th&eacute\;&acirc\;tre du Ch&acirc\;telet</em></p>\n\n<p><em>An American in Paris is presented by arrangement with Concord Theatricals on behalf of Tams-Witmark LLC.&nbsp\;<br />\n<a href="http://www.concordtheatricals.com/" style="box-sizing: border-box\; background-color: transparent\; touch-action: manipulation\; color: rgb(51\, 72\, 98)\; text-decoration-line: none\;">www.concordtheatricals.com</a></em></p>\n\n<p>&nbsp\;</p>\n
LOCATION:The Cape Playhouse 820 Main Street/Rte. 6A Dennis\, MA 02638
UID:e.2437.20185
SEQUENCE:3
DTSTAMP:20260421T013553Z
URL:https://chathaminfo-brooks-gzcms.preview.gochambermaster.com/events/details/an-american-in-paris-08-12-2023-20185
END:VEVENT

END:VCALENDAR
