BEGIN:VCALENDAR
VERSION:2.0
PRODID:-//ChamberMaster//Event Calendar 2.0//EN
METHOD:PUBLISH
X-PUBLISHED-TTL:P3D
REFRESH-INTERVAL:P3D
CALSCALE:GREGORIAN
BEGIN:VEVENT
DTSTART:20230312T230000Z
DTEND:20230313T033000Z
X-MICROSOFT-CDO-ALLDAYEVENT:FALSE
SUMMARY:ANNUAL OSCARS WATCH PARTY w/ PIZZA SHARK
DESCRIPTION:The 95th Academy Awards are this Sunday\, March 12th!\n\n\n\nPizza Shark and the Orpheum are excited to announce our ANNUAL OSCARS WATCH PARTY - LIVE!\n\n\n\nPlease join us as we celebrate this year's best movies - FREE OF CHARGE and OPEN TO ALL!\n\n\n\nPizza Shark and the bar will be offering food and drinks for purchase.\n\n\n\nThe party starts at 7:00 p.m.\, red carpet viewing at 7:30 p.m. and the live show at 8:00 p.m.\n\n\n\nStop by and pick up your FREE tickets at the Theater Box Office today!\n\n\n\n* ENTER TO WIN A $50 GIFT CARD *\n\n\n\nFill out our official Oscar Ballot and submit it to us before the telecast.\n\nYou can download the Ballot at https://chathamorpheum.org/ or pick it up at the Box Office.\n\n\n\nPick the most winners and you win!\n\n\n\nOscar Ballots can be turned in at the Theater Box Office or emailed to info@chathamorpheum.org.  NO PURCHASE NECESSARY to join in on the fun!
X-ALT-DESC;FMTTYPE=text/html:<p><span style="font-size:14.0pt">The 95th Academy Awards are this Sunday\, March 12<sup>th</sup>!</span><br />\n<br />\n<span style="font-size:14.0pt">Pizza Shark and the Orpheum are excited to announce our ANNUAL OSCARS WATCH PARTY - LIVE!</span><br />\n<br />\n<span style="font-size:14.0pt">Please join us as we celebrate this year&rsquo\;s best movies - FREE OF CHARGE and OPEN TO ALL!</span><br />\n<br />\n<span style="font-size:14pt">Pizza Shark and the bar will be offering food and drinks for purchase.</span><br />\n<br />\n<span style="font-size:14pt">The party starts at 7:00 p.m.\, red carpet viewing at 7:30 p.m. and the live show at 8:00 p.m.</span><br />\n<br />\n<span style="font-size:14pt">Stop by and pick up your FREE tickets at the Theater Box Office today!</span><br />\n<br />\n<span style="font-size:14pt">* ENTER TO WIN A $50 GIFT CARD *</span><br />\n<br />\n<span style="font-size:14pt">Fill out our official Oscar Ballot and submit it to us before the telecast.<br />\nYou can d</span><span style="font-size:14pt">ownload the Ballot at </span><a href="https://chathamorpheum.org/" style="font-size: 14pt\;">https://chathamorpheum.org/</a><span style="font-size:14pt"> or pick it up at the Box Office.</span><br />\n<br />\n<span style="font-size:14pt">Pick the most winners and you win!</span><br />\n<br />\n<span style="font-size:14pt">Oscar Ballots can be turned in at the Theater Box Office or emailed to </span><a href="mailto:info@chathamorpheum.org" style="font-size: 14pt\;">info@chathamorpheum.org</a><span style="font-size:14pt">.&nbsp\; NO PURCHASE NECESSARY to join in on the fun!</span></p>\n
LOCATION:Chatham Orpheum Theater 637 Main Street Chatham\, MA 02633
UID:e.2437.19720
SEQUENCE:3
DTSTAMP:20260422T030525Z
URL:https://chathaminfo-brooks-gzcms.preview.gochambermaster.com/events/details/annual-oscars-watch-party-w-pizza-shark-19720
END:VEVENT

END:VCALENDAR
