BEGIN:VCALENDAR
VERSION:2.0
PRODID:-//ChamberMaster//Event Calendar 2.0//EN
METHOD:PUBLISH
X-PUBLISHED-TTL:P3D
REFRESH-INTERVAL:P3D
CALSCALE:GREGORIAN
BEGIN:VEVENT
DTSTART:20240611T200000Z
DTEND:20240611T210000Z
X-MICROSOFT-CDO-ALLDAYEVENT:FALSE
SUMMARY:Author Bob Staake guest speaker at the Friends of Eldredge Public Library Annual Meeting
DESCRIPTION:Everyone is invited to the Friends of the Eldredge Public Library Annual Meeting.  Join the Friends Board for a recap of this past year\, meet the incoming  FY25 officers and find out who will receive the annual esprit award!   Following this short business meeting\, award winning author and illustrator Bob Staake will present An Afternoon with Bob Staake.  From his best-selling children's books to award-winning New Yorker covers\, Bob Staake's art may be internationally admired\, but it's all created in Chatham. Join the artist as he takes you on a playfully visual peek inside his studio   and his lively mind.  Registration is recommended.
X-ALT-DESC;FMTTYPE=text/html:<span style="color:rgb(0\, 0\, 0)\; font-family:arial\; font-size:12px">Everyone is invited to the Friends of the Eldredge Public Library Annual Meeting.&nbsp\; Join the Friends Board for a recap of this past year\, meet the incoming&nbsp\;&nbsp\;FY25&nbsp\;officers&nbsp\;and find out who will receive the&nbsp\;annual esprit award!&nbsp\;&nbsp\; Following this short business meeting\, award winning author and illustrator Bob Staake will present&nbsp\;</span><em>An Afternoon with Bob Staake</em><span style="color:rgb(0\, 0\, 0)\; font-family:arial\; font-size:12px">.&nbsp\;&nbsp\;</span><span style="color:rgb(34\, 34\, 34)\; font-family:arial\,helvetica\,sans-serif\; font-size:small">From his best-selling children&rsquo\;s books to award-winning New Yorker covers\,&nbsp\;</span><span style="color:rgb(34\, 34\, 34)\; font-family:arial\,helvetica\,sans-serif\; font-size:small">Bob</span><span style="color:rgb(34\, 34\, 34)\; font-family:arial\,helvetica\,sans-serif\; font-size:small">&nbsp\;</span><span style="color:rgb(34\, 34\, 34)\; font-family:arial\,helvetica\,sans-serif\; font-size:small">Staake</span><span style="color:rgb(34\, 34\, 34)\; font-family:arial\,helvetica\,sans-serif\; font-size:small">&rsquo\;s art may be internationally admired\, but it&rsquo\;s all created in Chatham. Join the artist as he takes you on a playfully visual peek inside his studio &mdash\; and his lively mind.&nbsp\; Registration is recommended.</span>
LOCATION:Eldredge Public Library 564 Main Street Chatham\, MA 02633
UID:e.2437.22113
SEQUENCE:3
DTSTAMP:20260420T021103Z
URL:https://chathaminfo-brooks-gzcms.preview.gochambermaster.com/events/details/author-bob-staake-guest-speaker-at-the-friends-of-eldredge-public-library-annual-meeting-22113
END:VEVENT

END:VCALENDAR
