BEGIN:VCALENDAR
VERSION:2.0
PRODID:-//ChamberMaster//Event Calendar 2.0//EN
METHOD:PUBLISH
X-PUBLISHED-TTL:P3D
REFRESH-INTERVAL:P3D
CALSCALE:GREGORIAN
BEGIN:VEVENT
DTSTART:20230928T000000Z
DTEND:20230928T010000Z
X-MICROSOFT-CDO-ALLDAYEVENT:FALSE
SUMMARY:Author Talk with Amor Towles
DESCRIPTION:Please tune in as we chat online with New York Times bestselling author Amor Towles about his incredible body of work. Rules of Civility\, published in 2011\, was a New York Times bestseller and was named by the Wall Street Journal as one of the year's best books.  Towles's second novel\, A Gentleman in Moscow\, published in 2016\, was on the New York Times bestseller list for two years and was named one of the best books of 2016 by the Chicago Tribune\, the Washington Post\, the Philadelphia Inquirer\, the San Francisco Chronicle\, and NPR. The book has been translated into over 35 languages.  Most recently\, in 2021\, The Lincoln Highway debuted at #1 on the New York Times bestseller list  and #1 on Amazon's list of "Best Books of the Year."   Registration at www.eldredgelibrary.org is required for this virtual event.
X-ALT-DESC;FMTTYPE=text/html:<span style="color:rgb(0\, 0\, 0)\; font-family:arial\; font-size:12px">Please tune in as we chat online with New York Times bestselling author Amor Towles about his incredible body of work. Rules of Civility\, published in 2011\, was a New York Times bestseller and was named by the Wall Street Journal as one of the year&#39\;s best books.&nbsp\; Towles&rsquo\;s second novel\, A Gentleman in Moscow\, published in 2016\, was on the New York Times bestseller list for two years and was named one of the best books of 2016 by the Chicago Tribune\, the Washington Post\, the Philadelphia Inquirer\, the San Francisco Chronicle\, and NPR. The book has been translated into over 35 languages. &nbsp\;Most recently\, in 2021\, The Lincoln Highway debuted at #1 on the New York Times bestseller list&nbsp\; and #1 on Amazon&rsquo\;s list of &ldquo\;Best Books of the Year.&rdquo\;&nbsp\; &nbsp\;</span><a href="https://libraryc.org/eldredgelibrary/32093" style="font-family: Arial\; font-size: 12px\;">Registration at www.eldredgelibrary.org is required</a><span style="color:rgb(0\, 0\, 0)\; font-family:arial\; font-size:12px">&nbsp\;for this virtual event.</span>
LOCATION:VIRTUAL PROGRAM www.eldredgelibrary.org Eldredge Public Library 564 Main Street Chatham MA 02633
UID:e.2437.20786
SEQUENCE:3
DTSTAMP:20260421T073313Z
URL:https://chathaminfo-brooks-gzcms.preview.gochambermaster.com/events/details/author-talk-with-amor-towles-20786
END:VEVENT

END:VCALENDAR
