BEGIN:VCALENDAR
VERSION:2.0
PRODID:-//ChamberMaster//Event Calendar 2.0//EN
METHOD:PUBLISH
X-PUBLISHED-TTL:P3D
REFRESH-INTERVAL:P3D
CALSCALE:GREGORIAN
BEGIN:VEVENT
DTSTART;VALUE=DATE:20230824
DTEND;VALUE=DATE:20230825
TRANSP:TRANSPARENT
X-MICROSOFT-CDO-ALLDAYEVENT:TRUE
SUMMARY:Chatham Drama Guild's Musical Revue: "Smoke Gets In Your Eyes - Broadway Speakeasy Favorites"
DESCRIPTION:The Chatham Drama Guild presents A Musical Revue: "Smoke Gets In Your Eyes - Broadway Speakeasy Favorites". A smoky\, sexy\, sultry\, jazzy\, bluesy walk down Broadway. In our speakeasy\, you will hear songs by Gershwin\, Rodgers and Hammerstein\, Andrew Lloyd Webber\, Kander and Ebb\, Tom Jones\, Andrew Lippa and more!\n\nDirected by Deb Mahaney\, Musical Direction by Geraldine Boles.\n\nPerformers: Laura Barabe\, Jim Davidson\, Suzanne Fecteau\, Robert Grady\, Scott Hamilton\, Alison Hyder\, Garrett Kasper\, Amy Kraskouskas\, Deb Mahaney\, Kimberly Matthews\, and Lizzy Smythe.\n\nDates: August 9 - September 3\, Wednesdays\, Thursdays\, and Saturdays at 7:30 PM and Sundays at 4:00 PM\n\nTickets: $30 for cabaret table seating\, $26 for stadium seating
X-ALT-DESC;FMTTYPE=text/html:<p><span style="color:rgb(14\, 14\, 14)">The Chatham Drama Guild presents A Musical Revue: &quot\;Smoke Gets In Your Eyes - Broadway Speakeasy Favorites&quot\;. A smoky\, sexy\, sultry\, jazzy\, bluesy walk down Broadway.&nbsp\;</span><span style="color:rgb(14\, 14\, 14)\; font-family:arial\,sans-serif">In our speakeasy\, you will hear songs by Gershwin\, Rodgers and Hammerstein\, Andrew Lloyd Webber\, Kander and Ebb\, Tom Jones\, Andrew Lippa and more!</span></p>\n\n<p><span style="color:rgb(14\, 14\, 14)">Directed by Deb Mahaney\, Musical Direction by Geraldine Boles.</span></p>\n\n<p><em>Performers</em><span style="color:rgb(14\, 14\, 14)\; font-family:arial\,sans-serif">:&nbsp\;</span><span style="color:rgb(0\, 0\, 0)\; font-family:arial\,sans-serif">Laura Barabe\, Jim Davidson\, Suzanne Fecteau\, Robert Grady\, Scott Hamilton\, Alison Hyder\, Garrett Kasper\, Amy Kraskouskas\, Deb Mahaney\, Kimberly Matthews\, and Lizzy Smythe.</span></p>\n\n<p><strong>Dates</strong><span style="color:rgb(14\, 14\, 14)">: August 9 - September 3\,&nbsp\;</span><span style="color:rgb(14\, 14\, 14)\; font-family:arial\,sans-serif">Wednesdays\, Thursdays\, and Saturdays at 7:30 PM and</span><span style="color:rgb(14\, 14\, 14)\; font-family:arial\,sans-serif">&nbsp\;Sundays at 4:00 PM</span></p>\n\n<p><strong>Tickets</strong><span style="color:rgb(14\, 14\, 14)\; font-family:arial\,sans-serif">: $30 for cabaret table seating\, $26 for stadium seating</span></p>\n
LOCATION:Chatham Drama Guild 134 Crowell Road Chatham\, MA
UID:e.2437.20729
SEQUENCE:3
DTSTAMP:20260421T043940Z
URL:https://chathaminfo-brooks-gzcms.preview.gochambermaster.com/events/details/chatham-drama-guild-s-musical-revue-smoke-gets-in-your-eyes-broadway-speakeasy-favorites-08-24-2023-20729
END:VEVENT

END:VCALENDAR
