BEGIN:VCALENDAR
VERSION:2.0
PRODID:-//ChamberMaster//Event Calendar 2.0//EN
METHOD:PUBLISH
X-PUBLISHED-TTL:P3D
REFRESH-INTERVAL:P3D
CALSCALE:GREGORIAN
BEGIN:VEVENT
DTSTART:20230909T140000Z
DTEND:20230909T180000Z
X-MICROSOFT-CDO-ALLDAYEVENT:FALSE
SUMMARY:Doggie Adoption at The Black Dog
DESCRIPTION:September is Doggie Adoption month at The Black Dog! We are partnering with The Animal Rescue League Brewster to bring adoptable dogs to our Chatham store on Saturday September 9th from 10am-2pm. Plus\, 20% of our sales will be donated to The Animal Rescue League! Even if you are not ready to adopt\, your purchase will go towards helping a great cause!
X-ALT-DESC;FMTTYPE=text/html:September is Doggie Adoption month at The Black Dog! We are partnering with The Animal Rescue League Brewster to bring adoptable dogs to our Chatham store on Saturday September 9th from 10am-2pm. Plus\, 20% of our sales will be donated to The Animal Rescue League! Even if you are not ready to adopt\, your purchase will go towards helping a great cause!
LOCATION:The Black Dog 628 Main St Chatham\, Ma 02633
UID:e.2437.20934
SEQUENCE:3
DTSTAMP:20260421T043623Z
URL:https://chathaminfo-brooks-gzcms.preview.gochambermaster.com/events/details/doggie-adoption-at-the-black-dog-09-09-2023-20934
END:VEVENT

END:VCALENDAR
