BEGIN:VCALENDAR
VERSION:2.0
PRODID:-//ChamberMaster//Event Calendar 2.0//EN
METHOD:PUBLISH
X-PUBLISHED-TTL:P3D
REFRESH-INTERVAL:P3D
CALSCALE:GREGORIAN
BEGIN:VEVENT
DTSTART:20230606T170000Z
DTEND:20230606T183000Z
X-MICROSOFT-CDO-ALLDAYEVENT:FALSE
SUMMARY:Free Oil Painting Demo with Maryalice Eizenberg TUESAY JUNE 6TH AT 1PM
DESCRIPTION:Free Oil Painting Demo with Maryalice Eizenberg (6/6)\n\nTUESAY JUNE 6TH AT 1PM\n\n\nDONATE FOOD ITEMS FOR THE FAMILY PANTRY \n\nMADE POSSIBLE BY A GRANT FROM THE WOMEN'S CLUB OF CHATHAM\n\n\n\nDemo is free to the public. Please bring a non perishable food item or donation to the Family Pantry of Cape Cod.\n\n\n\n\n\nTo sign up check out with $0 and you will not be charged or fill out jotform
X-ALT-DESC;FMTTYPE=text/html:<div>\n<h1>Free Oil Painting Demo with Maryalice Eizenberg (6/6)</h1>\n\n<div>TUESAY JUNE 6TH AT 1PM</div>\n\n<div>\n<h3>DONATE FOOD ITEMS FOR THE FAMILY PANTRY&nbsp\;</h3>\n\n<h3>MADE POSSIBLE BY A GRANT FROM THE WOMEN&rsquo\;S CLUB OF CHATHAM</h3>\n</div>\n\n<div>\n<div>Demo is free to the public. Please bring a non perishable food item or donation to the Family Pantry of Cape Cod.</div>\n</div>\n</div>\n\n<div>\n<div style="margin-left:-17px\; margin-right:-17px">\n<p>To sign up check out with $0 and you will not be charged or fill out jotform</p>\n</div>\n</div>\n
LOCATION:Creative Arts Center 154 Crowell Road Chatham\, Ma 02633
UID:e.2437.20295
SEQUENCE:3
DTSTAMP:20260421T061057Z
URL:https://chathaminfo-brooks-gzcms.preview.gochambermaster.com/events/details/free-oil-painting-demo-with-maryalice-eizenberg-tuesay-june-6th-at-1pm-20295
END:VEVENT

END:VCALENDAR
