BEGIN:VCALENDAR
VERSION:2.0
PRODID:-//ChamberMaster//Event Calendar 2.0//EN
METHOD:PUBLISH
X-PUBLISHED-TTL:P3D
REFRESH-INTERVAL:P3D
CALSCALE:GREGORIAN
BEGIN:VEVENT
DTSTART:20220817T230000Z
DTEND:20220818T010000Z
X-MICROSOFT-CDO-ALLDAYEVENT:FALSE
SUMMARY:From the Heart of the Wreck
DESCRIPTION:To end the summer we have the world premiere of a new play with music From the Heart of the Wreck\, August 17 - September 10. Masks are required for all indoor theater performances.
X-ALT-DESC;FMTTYPE=text/html:<p>To end the summer we have the world premiere of a new play with music <strong><em>From the Heart of the Wreck</em></strong>\, August 17 - September 10. Masks are required for all indoor theater performances.&nbsp\;</p>\n
LOCATION:Cape Rep Theatre 3299 Main St Brewster\, MA 02631
UID:e.2437.18905
SEQUENCE:3
DTSTAMP:20260422T221024Z
URL:https://chathaminfo-brooks-gzcms.preview.gochambermaster.com/events/details/from-the-heart-of-the-wreck-18905
END:VEVENT

END:VCALENDAR
