BEGIN:VCALENDAR
VERSION:2.0
PRODID:-//ChamberMaster//Event Calendar 2.0//EN
METHOD:PUBLISH
X-PUBLISHED-TTL:P3D
REFRESH-INTERVAL:P3D
CALSCALE:GREGORIAN
BEGIN:VEVENT
DTSTART:20221030T000000Z
DTEND:20221030T030000Z
X-MICROSOFT-CDO-ALLDAYEVENT:FALSE
SUMMARY:Halloween Party
DESCRIPTION:The Orpheum and Pizza Shark are having a Halloween Party!\n\n \nSaturday\, October 29th\n\n\n\n8:00 pm - Reception in our HAUNTED LOBBY\n\n9:00 pm - Screening of NIGHT OF THE LIVING DEAD\n\n\n\nSPECIALTY COCKTAILS * ZOMBIE COSTUME CONTEST * PRIZES\n\n\n\nCelebrate Halloween with this landmark 1968 horror-shocker that launched the entire zombie movie genre. Now digitally restored and remastered in stunning 4K under the supervision of director George A. Romero!\n\n \n\nBuy your tickets early at https://chathamorpheum.org/coming-soon/
X-ALT-DESC;FMTTYPE=text/html:<div><br />\n<strong>The Orpheum and Pizza Shark are having a Halloween Party!</strong></div>\n\n<p>&nbsp\;</p>\n<strong>Saturday\, October 29th</strong><br />\n<br />\n<strong>8:00 pm - Reception in our HAUNTED LOBBY</strong><br />\n<strong>9:00 pm - Screening of NIGHT OF THE LIVING DEAD</strong><br />\n<br />\n<strong>SPECIALTY COCKTAILS * ZOMBIE COSTUME CONTEST * PRIZES</strong>\n\n<div><br />\n<strong>Celebrate Halloween with this landmark 1968 horror-shocker that launched the entire zombie movie genre. Now digitally restored and remastered in stunning 4K under the supervision of director George A. Romero!</strong></div>\n\n<p>&nbsp\;</p>\n\n<div><strong>Buy your tickets early at&nbsp\;<a class="x1i10hfl xjbqb8w x6umtig x1b1mbwd xaqea5y xav7gou x9f619 x1ypdohk xt0psk2 xe8uvvx xdj266r x11i5rnm xat24cr x1mh8g0r xexx8yu x4uap5 x18d9i69 xkhd6sd x16tdsg8 x1hl2dhg xggy1nq x1a2a7pz xt0b8zv x1fey0fg" href="https://chathamorpheum.org/coming-soon/?fbclid=IwAR0rZjQFQfpmSLhNh9IQ7z9SlWxfJLaVwN41xzky5Maw9G5BGGOp_CAQJk8" rel="nofollow noopener" style="cursor: pointer\; text-decoration-line: none\; outline: none\; list-style: none\; border-width: 0px\; border-style: initial\; border-color: initial\; margin: 0px\; text-align: inherit\; padding: 0px\; -webkit-tap-highlight-color: transparent\; box-sizing: border-box\; touch-action: manipulation\; background-color: transparent\; display: inline\; font-family: inherit\;" tabindex="0" target="_blank">https://chathamorpheum.org/coming-soon/</a></strong></div>\n
LOCATION:Chatham Orpheum Theater 637 Main Street Chatham\, MA 02633
UID:e.2437.19564
SEQUENCE:3
DTSTAMP:20260422T182104Z
URL:https://chathaminfo-brooks-gzcms.preview.gochambermaster.com/events/details/halloween-party-19564
END:VEVENT

END:VCALENDAR
