BEGIN:VCALENDAR
VERSION:2.0
PRODID:-//ChamberMaster//Event Calendar 2.0//EN
METHOD:PUBLISH
X-PUBLISHED-TTL:P3D
REFRESH-INTERVAL:P3D
CALSCALE:GREGORIAN
BEGIN:VEVENT
DTSTART:20231209T180000Z
DTEND:20231209T200000Z
X-MICROSOFT-CDO-ALLDAYEVENT:FALSE
SUMMARY:Holiday Carolers at Eldredge Public Library
DESCRIPTION:As you stroll down Main Street during Chatham's Christmas by the Sea Stroll\, enjoy the festive holiday music performed by the Cape Cod Carolers on the front lawn of the Eldredge Public Library.
X-ALT-DESC;FMTTYPE=text/html:<span style="background-color:rgb(202\, 230\, 202)\; color:rgb(0\, 0\, 0)\; font-family:georgia\,times new roman\,times\,serif">As you stroll down Main Street during Chatham&#39\;s Christmas by the Sea Stroll\, enjoy the festive holiday music performed by the Cape Cod Carolers on the front lawn of the Eldredge Public Library.</span>
LOCATION:Eldredge Public Library 564 Main Street Chatham\, MA 02633
UID:e.2437.21093
SEQUENCE:3
DTSTAMP:20260420T110105Z
URL:https://chathaminfo-brooks-gzcms.preview.gochambermaster.com/events/details/holiday-carolers-at-eldredge-public-library-21093
END:VEVENT

END:VCALENDAR
