BEGIN:VCALENDAR
VERSION:2.0
PRODID:-//ChamberMaster//Event Calendar 2.0//EN
METHOD:PUBLISH
X-PUBLISHED-TTL:P3D
REFRESH-INTERVAL:P3D
CALSCALE:GREGORIAN
BEGIN:VEVENT
DTSTART:20220704T110000Z
DTEND:20220704T150000Z
X-MICROSOFT-CDO-ALLDAYEVENT:FALSE
SUMMARY:July 4th Pancake Breakfast Sponsored by Rotary Club of Chatham
DESCRIPTION:ROTARY CLUB of CHATHAM   \n\n\n\nJuly 4\, 2022\n\n7:00am - 11:00am\n\nChatham Elementary School\n\n147 Depot Road\, Chatham  02633\n\n\n\n     Adults:                       $10\n\nChildren under 11:     $5\n\nChildren under 5:    FREE\n\nand a Family of Four May eat for $30 \n\n\n\n\n\n Start the Fourth of July with a breakfast of juice\, pancakes\, bacon and beverage.  \n\n\n\nProceeds from the breakfast support Chatham Rotary's contributions to local organizations such as Monomoy Community Services\, Chatham Food Pantry\, scholarships for local students and support for the Goll Farm School in Liberia\, West Africa
X-ALT-DESC;FMTTYPE=text/html:<div style="text-align: center\;"><br />\n<br />\n<strong><span style="font-size: 20px\;">ROTARY CLUB of CHATHAM&nbsp\; &nbsp\;</span><br />\n<br />\n<span style="font-size: 14px\;">July 4\, 2022<br />\n7:00am - 11:00am<br />\nChatham Elementary School<br />\n147 Depot Road\, Chatham&nbsp\; 02633</span></strong></div>\n\n<p style="text-align: center\;"><br />\n<strong><span style="font-size: 14px\;">&nbsp\; &nbsp\; <span style="font-size:16px\;">&nbsp\;Adults:&nbsp\;&nbsp\;&nbsp\;</span></span></strong><span style="font-size:16px\;">&nbsp\; &nbsp\; &nbsp\; &nbsp\; &nbsp\; &nbsp\; &nbsp\; &nbsp\; &nbsp\; &nbsp\;<strong> $</strong></span><strong><span style="font-size:16px\;">10<br />\nChildren under 11:&nbsp\;&nbsp\;&nbsp\;&nbsp\; $5<br />\nChildren under 5:&nbsp\;&nbsp\;&nbsp\; FREE<br />\nand a Family of Four May eat for $30&nbsp\;</span><br />\n<br />\n<br />\n&nbsp\;Start the Fourth of July with a breakfast of juice\, pancakes\, bacon and beverage.&nbsp\;&nbsp\;<br />\n<br />\nProceeds from the breakfast support Chatham Rotary&#39\;s contributions to local organizations such as Monomoy Community Services\, Chatham Food Pantry\, scholarships for local students and support for the Goll Farm School in Liberia\, West Africa</strong></p>\n
LOCATION:Chatham Elementary School 147 Depot Road Chatham\, MA 02633
UID:e.2437.19427
SEQUENCE:3
DTSTAMP:20260423T064954Z
URL:https://chathaminfo-brooks-gzcms.preview.gochambermaster.com/events/details/july-4th-pancake-breakfast-sponsored-by-rotary-club-of-chatham-19427
END:VEVENT

END:VCALENDAR
