BEGIN:VCALENDAR
VERSION:2.0
PRODID:-//ChamberMaster//Event Calendar 2.0//EN
METHOD:PUBLISH
X-PUBLISHED-TTL:P3D
REFRESH-INTERVAL:P3D
CALSCALE:GREGORIAN
BEGIN:VEVENT
DTSTART:20230807T170000Z
DTEND:20230807T180000Z
X-MICROSOFT-CDO-ALLDAYEVENT:FALSE
SUMMARY:Kids Art Class with Amy Middleton (Ages 6-8) MON 1-2PM (Ages 9-11) MON 2:15-3:15PM
DESCRIPTION:Kids Art Class with Amy Middleton\n\n\n(Ages 6-8) MON 1-2PM\n\n(Ages 9-11) MON 2:15-3:15PM\n\n6 WEEK CLASS\n\nJULY 10\, 17\, 24\, 31\, AUG 7\, 14\n\n\nCHILDREN'S FUNDAMENTALS OF ART \n\nChildren will enjoy a fun and creative experience as they explore and discover art concepts and techniques through painting
X-ALT-DESC;FMTTYPE=text/html:<h1>Kids Art Class with Amy Middleton</h1>\n\n<div>\n<h1>(Ages 6-8)&nbsp\;<strong>MON 1-2PM</strong><br />\n(Ages 9-11)&nbsp\;<strong>MON 2:15-3:15PM</strong></h1>\n\n<h2><strong>6 WEEK CLASS</strong></h2>\n\n<h2>JULY 10\, 17\, 24\, 31\, AUG 7\, 14</h2>\n</div>\n\n<h3><strong>CHILDREN&#39\;S FUNDAMENTALS OF ART </strong></h3>\n\n<p>Children will enjoy a fun and creative experience as they explore and discover art concepts and&nbsp\;techniques through painting</p>\n
LOCATION:Creative Arts Center 154 Crowell Road Chatham\, Ma 02633
UID:e.2437.19943
SEQUENCE:3
DTSTAMP:20260421T030951Z
URL:https://chathaminfo-brooks-gzcms.preview.gochambermaster.com/events/details/kids-art-class-with-amy-middleton-ages-6-8-mon-1-2pm-ages-9-11-mon-2-15-3-15pm-08-07-2023-19943
END:VEVENT

END:VCALENDAR
