BEGIN:VCALENDAR
VERSION:2.0
PRODID:-//ChamberMaster//Event Calendar 2.0//EN
METHOD:PUBLISH
X-PUBLISHED-TTL:P3D
REFRESH-INTERVAL:P3D
CALSCALE:GREGORIAN
BEGIN:VEVENT
DTSTART;VALUE=DATE:20230902
DTEND;VALUE=DATE:20230904
TRANSP:TRANSPARENT
X-MICROSOFT-CDO-ALLDAYEVENT:TRUE
SUMMARY:Labor Day Weekend Arts and Craft Festival
DESCRIPTION:Celebrate Labor Day Weekend in style at the highly anticipated Labor Day Weekend  Arts & Craft Festival! Join us on the picturesque John Simpkins Field\, located on Route 28 in beautiful Yarmouth\, MA. This event is a haven for art enthusiasts and craft lovers\, featuring an impressive showcase of over 75 booths filled with American-made arts\, crafts\, and specialty foods.\n\n \n\nImmerse yourself in a world of creativity as you explore the diverse range of artistic expressions on display. Discover unique handmade treasures that include intricate jewelry\, captivating paintings\, beautifully crafted ceramics\, and much more. The festival is a true testament to the craftsmanship and talent of local artisans\, and a must-visit destination for those seeking one-of-a-kind creations.\n\n \n\nIndulge your taste buds with an array of delectable specialty foods that will tantalize your senses. From savory delights to sweet treats\, the festival offers a diverse selection of culinary delights that are sure to satisfy every palate. Experience the flavors of the region and savor the delicious offerings from our carefully curated vendors.\n\n \n\nAdmission to the Labor Day Weekend  Arts & Craft Festival is free\, making it the perfect opportunity to gather with friends and family for a memorable weekend. We provide ample free parking\, ensuring a hassle-free experience for all attendees. Rain or shine\, the festival will go on\, allowing you to enjoy the festivities without worry.\n\n \n\nMark your calendars for Saturday\, September 2nd\, from 10 am to 5 pm\, and Sunday\, September 3rd\, from 10 am to 4 pm\, and be part of this extraordinary celebration of creativity. Don't miss the chance to explore the talents of local artists and discover unique treasures that will leave a lasting impression.\n\n \n\nFor more information and updates\, please visit our website at castleberryfairs.com. Get ready to experience the magic of this South Yarmouth MA event and create unforgettable memories on this Labor Day Weekend!
X-ALT-DESC;FMTTYPE=text/html:Celebrate Labor Day Weekend in style at the highly anticipated Labor Day Weekend &nbsp\;Arts &amp\; Craft Festival! Join us on the picturesque John Simpkins Field\, located on Route 28 in beautiful Yarmouth\, MA. This event is a haven for art enthusiasts and craft lovers\, featuring an impressive showcase of over 75 booths filled with American-made arts\, crafts\, and specialty foods.<br />\n&nbsp\;<br />\nImmerse yourself in a world of creativity as you explore the diverse range of artistic expressions on display. Discover unique handmade treasures that include intricate jewelry\, captivating paintings\, beautifully crafted ceramics\, and much more. The festival is a true testament to the craftsmanship and talent of local artisans\, and a must-visit destination for those seeking one-of-a-kind creations.<br />\n&nbsp\;<br />\nIndulge your taste buds with an array of delectable specialty foods that will tantalize your senses. From savory delights to sweet treats\, the festival offers a diverse selection of culinary delights that are sure to satisfy every palate. Experience the flavors of the region and savor the delicious offerings from our carefully curated vendors.<br />\n&nbsp\;<br />\nAdmission to the Labor Day Weekend &nbsp\;Arts &amp\; Craft Festival is free\, making it the perfect opportunity to gather with friends and family for a memorable weekend. We provide ample free parking\, ensuring a hassle-free experience for all attendees. Rain or shine\, the festival will go on\, allowing you to enjoy the festivities without worry.<br />\n&nbsp\;<br />\nMark your calendars for Saturday\, September 2nd\, from 10 am to 5 pm\, and Sunday\, September 3rd\, from 10 am to 4 pm\, and be part of this extraordinary celebration of creativity. Don&#39\;t miss the chance to explore the talents of local artists and discover unique treasures that will leave a lasting impression.<br />\n&nbsp\;<br />\nFor more information and updates\, please visit our website at castleberryfairs.com. Get ready to experience the magic of this South Yarmouth MA event and create unforgettable memories on this Labor Day Weekend!<br />\n&nbsp\;
LOCATION:John Simpkins Field\, 1153 Route 28\, South Yarmouth\, MA
UID:e.2437.20704
SEQUENCE:3
DTSTAMP:20260421T001251Z
URL:https://chathaminfo-brooks-gzcms.preview.gochambermaster.com/events/details/labor-day-weekend-arts-and-craft-festival-20704
END:VEVENT

END:VCALENDAR
