BEGIN:VCALENDAR
VERSION:2.0
PRODID:-//ChamberMaster//Event Calendar 2.0//EN
METHOD:PUBLISH
X-PUBLISHED-TTL:P3D
REFRESH-INTERVAL:P3D
CALSCALE:GREGORIAN
BEGIN:VEVENT
DTSTART:20230627T131500Z
DTEND:20230629T041500Z
X-MICROSOFT-CDO-ALLDAYEVENT:FALSE
SUMMARY:Liz Perry- Basic Color Theory and Watercolor Techniques
DESCRIPTION:Simple and informative lessons in using color effectively and purposefully will be illustrated step by step in this three-day class on creating luminous colors using a pure pigment palette. No more muddy colors! Liz will introduce the fundamentals of color mixing\, color blending and also specific glazing techniques. These lessons can also apply to other mediums\, but this class will concentrate mostly on the use of watercolor. Along with learning to mix powerful and soft tones of all hues\, you will learn to create your own beautifully warm and cool blacks\, browns and greys\, using your primary color palette. Controlled brush technique and water applications\, and basic color theory will be covered\, and a few tips on composition.
X-ALT-DESC;FMTTYPE=text/html:<span style="background-color:rgb(222\, 231\, 248)\; color:rgba(26\, 26\, 26\, 0.7)\; font-family:adobe-garamond-pro\; font-size:18px">Simple and informative lessons in using color effectively and purposefully will be illustrated step by step in this three-day class on creating luminous colors using a pure pigment palette. No more muddy colors! Liz will introduce the fundamentals of color mixing\, color blending and also specific glazing techniques. These lessons can also apply to other mediums\, but this class will concentrate mostly on the use of watercolor. Along with learning to mix powerful and soft tones of all hues\, you will learn to create your own beautifully warm and cool blacks\, browns and greys\, using your primary color palette. Controlled brush technique and water applications\, and basic color theory will be covered\, and a few tips on composition.</span>
LOCATION:Creative Arts Center 154 Crowell Road Chatham\, Ma 02633
UID:e.2437.19957
SEQUENCE:3
DTSTAMP:20260421T151642Z
URL:https://chathaminfo-brooks-gzcms.preview.gochambermaster.com/events/details/liz-perry-basic-color-theory-and-watercolor-techniques-19957
END:VEVENT

END:VCALENDAR
