BEGIN:VCALENDAR
VERSION:2.0
PRODID:-//ChamberMaster//Event Calendar 2.0//EN
METHOD:PUBLISH
X-PUBLISHED-TTL:P3D
REFRESH-INTERVAL:P3D
CALSCALE:GREGORIAN
BEGIN:VEVENT
DTSTART:20231102T140000Z
DTEND:20231102T160000Z
X-MICROSOFT-CDO-ALLDAYEVENT:FALSE
SUMMARY:Paul Cezanne Lecture with Beth Stein THURSDAY\, NOV 2\, (ZOOM & IN PERSON) 10AM-12PM
DESCRIPTION:C zanne was the artist of the modern age who changed the way we see the world.  For artists of his generation\, he became\, in a phrase attributed to both Picasso and Matisse\, "the father of us all."  Held in 'high esteem by the Cubist painters\, C zanne's rigorous and geometric art embodied the balance between form and volume. He was at one time considered to be a madman\, a barbarian who found the forms and trappings of civilization irksome.  Some even labelled him a sociopath. He painted many self-portraits\, yet was tormented by self-doubt\, rejected by the Salon for forty years\, sold nothing outside his immediate circle until he was 35\, had a family he kept secret from his father until his 40s\, and had his first exhibition at the age of 56\; however\, he fiercely maintained his revolutionary beliefs. \n\nJoin Beth Stein as she examines the distinctive\, eccentric and accomplished life of this extraordinary artist.
X-ALT-DESC;FMTTYPE=text/html:<p>C&eacute\;zanne was the artist of the modern age who changed the way we see the world.&nbsp\; For artists of his generation\, he became\, in a phrase attributed to both Picasso and Matisse\, &quot\;the father of us all.&rdquo\;&nbsp\; Held in &lsquo\;high esteem by the Cubist painters\, C&eacute\;zanne&#39\;s rigorous and geometric art embodied the balance between form and volume.<strong> </strong>He was at one time considered to be a madman\, a barbarian who found the forms and trappings of civilization irksome.&nbsp\; Some even labelled him a sociopath. He painted many self-portraits\, yet was tormented by self-doubt\, rejected by the Salon for forty years\, sold nothing outside his immediate circle until he was 35\, had a family he kept secret from his father until his 40s\, and had his first exhibition at the age of 56\; however\, he fiercely maintained his revolutionary beliefs.&nbsp\;</p>\n\n<p>Join <strong>Beth Stein </strong>as she examines the distinctive\, eccentric and accomplished life of this extraordinary artist.&nbsp\;</p>\n
LOCATION:Creative Arts Center 154 Crowell Road Chatham\, Ma 02633
UID:e.2437.21002
SEQUENCE:3
DTSTAMP:20260421T043620Z
URL:https://chathaminfo-brooks-gzcms.preview.gochambermaster.com/events/details/paul-cezanne-lecture-with-beth-stein-thursday-nov-2-zoom-in-person-10am-12pm-21002
END:VEVENT

END:VCALENDAR
