BEGIN:VCALENDAR
VERSION:2.0
PRODID:-//ChamberMaster//Event Calendar 2.0//EN
METHOD:PUBLISH
X-PUBLISHED-TTL:P3D
REFRESH-INTERVAL:P3D
CALSCALE:GREGORIAN
BEGIN:VEVENT
DTSTART:20231223T160000Z
DTEND:20231223T200000Z
X-MICROSOFT-CDO-ALLDAYEVENT:FALSE
SUMMARY:Pics with Santa Dog
DESCRIPTION:Put your pup in their holiday best and come to The Black Dog Chatham to have their picture taken with Santa Dog! The 3 best dressed pups will win a $25 gift card.
X-ALT-DESC;FMTTYPE=text/html:<br />\n<br />\nPut your pup in their holiday best and come to The Black Dog Chatham to have their picture taken with Santa Dog! The 3 best dressed pups will win a $25 gift card.&nbsp\;
LOCATION:The Black Dog 628 Main St Chatham\, Ma
UID:e.2437.21023
SEQUENCE:3
DTSTAMP:20260420T155457Z
URL:https://chathaminfo-brooks-gzcms.preview.gochambermaster.com/events/details/pics-with-santa-dog-21023
END:VEVENT

END:VCALENDAR
