BEGIN:VCALENDAR
VERSION:2.0
PRODID:-//ChamberMaster//Event Calendar 2.0//EN
METHOD:PUBLISH
X-PUBLISHED-TTL:P3D
REFRESH-INTERVAL:P3D
CALSCALE:GREGORIAN
BEGIN:VEVENT
DTSTART:20220820T170000Z
DTEND:20220820T181500Z
X-MICROSOFT-CDO-ALLDAYEVENT:FALSE
SUMMARY:Secret Garden Treasure Hunt and Floral Demo Aug. 20
DESCRIPTION:Join us for a "Secret Garden Floral Arrangement Treasure Hunt" on Sat.\, Aug. 20 at 1 p.m. at the Caleb Nickerson Homestead\, rain or shine.\n\n \n\nWho doesn't love the children's novel "The Secret Garden" by Frances Hodgson Burnett? Floral designer Sonny Gada will provide background on the classic story while creating a beautiful floral arrangement. Following a demonstration in the art of floral design\, Gada will raffle off the arrangement. Even more intriguing\, one guest will win a second arrangement\, hidden in "the secret garden."\n\n \n\nThe event will be held at the c. 1829 Caleb Nickerson Homestead at 1107 Orleans Road\, North Chatham. \n\n \n\nGada\, who lives in Chatham\, has been a floral designer and horticulturist for over 50 years. His floral arrangements have been featured in the Boston Museum of Fine Arts annual event "Art in Bloom."\n\n \n\nPreregistration is required by Aug. 19 as space is limited. The cost of the program is $20. To register\, go to https://nickersonassoc.com/support/store/Events-c137439501 For more information\, call 508-945-6086 or email wmnick1107@gmail.com. The event is sponsored by the Nickerson Family Association\, Inc.
X-ALT-DESC;FMTTYPE=text/html:Join us for a &ldquo\;Secret Garden Floral Arrangement Treasure Hunt&rdquo\; on Sat.\, Aug. 20 at 1 p.m. at the Caleb Nickerson Homestead\, rain or shine.<br />\n&nbsp\;<br />\nWho doesn&rsquo\;t love the children&rsquo\;s novel &ldquo\;The Secret Garden&rdquo\; by Frances Hodgson Burnett? Floral designer Sonny Gada will provide background on the classic story while creating a beautiful floral arrangement. Following a demonstration in the art of floral design\, Gada will raffle off the arrangement. Even more intriguing\, one guest will win a second arrangement\, hidden in &ldquo\;the secret garden.&rdquo\;<br />\n&nbsp\;<br />\nThe event will be held at the c. 1829 Caleb Nickerson Homestead at 1107 Orleans Road\, North Chatham.&nbsp\;<br />\n&nbsp\;<br />\nGada\, who lives in Chatham\, has been a floral designer and horticulturist for over 50 years. His floral arrangements have been featured in the Boston Museum of Fine Arts annual event &ldquo\;Art in Bloom.&rdquo\;<br />\n&nbsp\;<br />\nPreregistration is required by Aug. 19 as space is limited. The cost of the program is $20. To register\, go to <a href="https://nickersonassoc.com/support/store/Events-c137439501">https://nickersonassoc.com/support/store/Events-c137439501</a>&nbsp\;For more information\, call 508-945-6086 or email wmnick1107@gmail.com. The event is sponsored by the Nickerson Family Association\, Inc.
LOCATION:1107 Orleans Road\, North Chatham\, MA
UID:e.2437.19486
SEQUENCE:3
DTSTAMP:20260422T214959Z
URL:https://chathaminfo-brooks-gzcms.preview.gochambermaster.com/events/details/secret-garden-treasure-hunt-and-floral-demo-aug-20-19486
END:VEVENT

END:VCALENDAR
