BEGIN:VCALENDAR
VERSION:2.0
PRODID:-//ChamberMaster//Event Calendar 2.0//EN
METHOD:PUBLISH
X-PUBLISHED-TTL:P3D
REFRESH-INTERVAL:P3D
CALSCALE:GREGORIAN
BEGIN:VEVENT
DTSTART:20240328T050000Z
DTEND:20240328T190000Z
X-MICROSOFT-CDO-ALLDAYEVENT:FALSE
SUMMARY:Vincent Van Gogh: Passion on Canvas- Lecture with Beth Stein
DESCRIPTION:Vincent Van Gogh:  Passion on Canvas\n\n Throughout his life\, Vincent van Gogh was poor\, often hungry and ill. When he died in 1890 at the age of 37\, it seemed that his work would be forgotten.  All that has changed\, and Vincent is now one of the most famous and beloved painters of all time.Come join Beth Stein as she examines the life and times of Van Gogh through his iconic works of art.
X-ALT-DESC;FMTTYPE=text/html:<p><strong><em>Vincent Van Gogh:&nbsp\; Passion on Canvas</em></strong></p>\n\n<p>&nbsp\;Throughout his life\,&nbsp\;<strong>Vincent van Gogh</strong>&nbsp\;was poor\, often hungry and ill.&nbsp\;When he died in 1890 at the age of 37\, it seemed that his work would be forgotten.&nbsp\;&nbsp\;All that has changed\, and Vincent is now one of the most famous and beloved painters of all time.Come join&nbsp\;<strong><em>Beth Stein</em></strong>&nbsp\;as she examines the life and times of Van Gogh through his iconic works of art.</p>\n
LOCATION:154 Crowell Road Chatham\, Ma 02633
UID:e.2437.21762
SEQUENCE:3
DTSTAMP:20260420T051634Z
URL:https://chathaminfo-brooks-gzcms.preview.gochambermaster.com/events/details/vincent-van-gogh-passion-on-canvas-lecture-with-beth-stein-21762
END:VEVENT

END:VCALENDAR
